BEGIN:VCALENDAR
VERSION:2.0
PRODID:-//T.C. İstanbul Şişli Meslek Yüksekokulu
CALSCALE:GREGORIAN
METHOD:PUBLISH
X-WR-CALNAME:T.C. İstanbul Şişli Meslek Yüksekokulu
X-ORIGINAL-URL:https://www.sisli.edu.tr/paylasim/2023-2024-egitim-ogretim-yili-bahar-yariyili-ingilizce-hazirlik-muafiyet-ve-seviye-tespit-sinavi/
X-WR-CALDESC:2023-2024 Eğitim Öğretim Yılı Bahar Yarıyılı İngilizce Hazırlık Muafiyet ve Seviye Tespit Sınavı
BEGIN:VEVENT
DTSTART:20240227T000000
DTEND:
SUMMARY:2023-2024 Eğitim Öğretim Yılı Bahar Yarıyılı İngilizce Hazırlık Muafiyet ve Seviye Tespit Sınavı
DESCRIPTION:
LOCATION:
END:VEVENT
END:VCALENDAR
