BEGIN:VCALENDAR
VERSION:2.0
PRODID:-//T.C. İstanbul Şişli Meslek Yüksekokulu
CALSCALE:GREGORIAN
METHOD:PUBLISH
X-WR-CALNAME:T.C. İstanbul Şişli Meslek Yüksekokulu
X-ORIGINAL-URL:https://www.sisli.edu.tr/paylasim/treesp1-3-fow-p-03-42-numarali-designing-the-future-projesi-kapsaminda-satin-alma-no-1-hizmet-alimi-sozlesmesine-yonelik-ihale-degerlendirme-oturumlarina-davet/
X-WR-CALDESC:TREESP1.3.FoW/P-03/42 numaralı Designing the Future Projesi Kapsamında Satın Alma No 1 Hizmet Alımı Sözleşmesine Yönelik İhale Değerlendirme Oturumlarına Davet
BEGIN:VEVENT
DTSTART:20231229T000000
DTEND:
SUMMARY:TREESP1.3.FoW/P-03/42 numaralı Designing the Future Projesi Kapsamında Satın Alma No 1 Hizmet Alımı Sözleşmesine Yönelik İhale Değerlendirme Oturumlarına Davet
DESCRIPTION:
LOCATION:
END:VEVENT
END:VCALENDAR
