BEGIN:VCALENDAR
VERSION:2.0
PRODID:-//T.C. İstanbul Şişli Meslek Yüksekokulu
CALSCALE:GREGORIAN
METHOD:PUBLISH
X-WR-CALNAME:T.C. İstanbul Şişli Meslek Yüksekokulu
X-ORIGINAL-URL:https://www.sisli.edu.tr/paylasim/ulusal-staj-programi-2024-basvurulari-basladi/
X-WR-CALDESC:Ulusal Staj Programı 2024 Başvuruları Başladı!
BEGIN:VEVENT
DTSTART:20240102T000000
DTEND:
SUMMARY:Ulusal Staj Programı 2024 Başvuruları Başladı!
DESCRIPTION:
LOCATION:
END:VEVENT
END:VCALENDAR
