BEGIN:VCALENDAR
VERSION:2.0
PRODID:-//T.C. İstanbul Şişli Meslek Yüksekokulu
CALSCALE:GREGORIAN
METHOD:PUBLISH
X-WR-CALNAME:T.C. İstanbul Şişli Meslek Yüksekokulu
X-ORIGINAL-URL:https://www.sisli.edu.tr/paylasim/is-yasaminda-iletisim-kurallari/
X-WR-CALDESC:İş Yaşamında İletişim Kuralları
BEGIN:VEVENT
DTSTART:20231228T000000
DTEND:
SUMMARY:İş Yaşamında İletişim Kuralları
DESCRIPTION:
LOCATION:
END:VEVENT
END:VCALENDAR
