BEGIN:VCALENDAR
VERSION:2.0
PRODID:-//T.C. İstanbul Şişli Meslek Yüksekokulu
CALSCALE:GREGORIAN
METHOD:PUBLISH
X-WR-CALNAME:T.C. İstanbul Şişli Meslek Yüksekokulu
X-ORIGINAL-URL:https://www.sisli.edu.tr/paylasim/mizacini-kesfet-kariyerini-planla/
X-WR-CALDESC:Mizacını Keşfet Kariyerini Planla
BEGIN:VEVENT
DTSTART:20231227T003000
DTEND:
SUMMARY:Mizacını Keşfet Kariyerini Planla
DESCRIPTION:
LOCATION:
END:VEVENT
END:VCALENDAR
