BEGIN:VCALENDAR
VERSION:2.0
PRODID:-//T.C. İstanbul Şişli Meslek Yüksekokulu
CALSCALE:GREGORIAN
METHOD:PUBLISH
X-WR-CALNAME:T.C. İstanbul Şişli Meslek Yüksekokulu
X-ORIGINAL-URL:https://www.sisli.edu.tr/paylasim/22-aralik-paramedik-gunu/
X-WR-CALDESC:22 Aralık Paramedik Günü
BEGIN:VEVENT
DTSTART:20231222T000000
DTEND:
SUMMARY:22 Aralık Paramedik Günü
DESCRIPTION:
LOCATION:
END:VEVENT
END:VCALENDAR
