BEGIN:VCALENDAR
VERSION:2.0
PRODID:-//T.C. İstanbul Şişli Meslek Yüksekokulu
CALSCALE:GREGORIAN
METHOD:PUBLISH
X-WR-CALNAME:T.C. İstanbul Şişli Meslek Yüksekokulu
X-ORIGINAL-URL:https://www.sisli.edu.tr/paylasim/etkili-linkedin-kullanimi/
X-WR-CALDESC:Etkili Linkedin Kullanımı
BEGIN:VEVENT
DTSTART:20231225T130000
DTEND:
SUMMARY:Etkili Linkedin Kullanımı
DESCRIPTION:
LOCATION:
END:VEVENT
END:VCALENDAR
