BEGIN:VCALENDAR
VERSION:2.0
PRODID:-//T.C. İstanbul Şişli Meslek Yüksekokulu
CALSCALE:GREGORIAN
METHOD:PUBLISH
X-WR-CALNAME:T.C. İstanbul Şişli Meslek Yüksekokulu
X-ORIGINAL-URL:https://www.sisli.edu.tr/paylasim/aile-hastanesi-ile-tibbi-dokumantasyon-ve-sekreterlik-programi-ogrenci-tanismasi/
X-WR-CALDESC:Aile Hastanesi ile Tıbbi Dokümantasyon ve Sekreterlik Programı Öğrenci Tanışması
BEGIN:VEVENT
DTSTART:20231213T000000
DTEND:
SUMMARY:Aile Hastanesi ile Tıbbi Dokümantasyon ve Sekreterlik Programı Öğrenci Tanışması
DESCRIPTION:
LOCATION:
END:VEVENT
END:VCALENDAR
