BEGIN:VCALENDAR
VERSION:2.0
PRODID:-//T.C. İstanbul Şişli Meslek Yüksekokulu
CALSCALE:GREGORIAN
METHOD:PUBLISH
X-WR-CALNAME:T.C. İstanbul Şişli Meslek Yüksekokulu
X-ORIGINAL-URL:https://www.sisli.edu.tr/paylasim/erkek-basketbol-secmeleri/
X-WR-CALDESC:Erkek Basketbol Seçmeleri
BEGIN:VEVENT
DTSTART:20231215T000000
DTEND:
SUMMARY:Erkek Basketbol Seçmeleri
DESCRIPTION:
LOCATION:
END:VEVENT
END:VCALENDAR
