BEGIN:VCALENDAR
VERSION:2.0
PRODID:-//T.C. İstanbul Şişli Meslek Yüksekokulu
CALSCALE:GREGORIAN
METHOD:PUBLISH
X-WR-CALNAME:T.C. İstanbul Şişli Meslek Yüksekokulu
X-ORIGINAL-URL:https://www.sisli.edu.tr/paylasim/kisa-film-gunleri/
X-WR-CALDESC:Kısa Film Günleri
BEGIN:VEVENT
DTSTART:20231218T000000
DTEND:
SUMMARY:Kısa Film Günleri
DESCRIPTION:
LOCATION:
END:VEVENT
END:VCALENDAR
