BEGIN:VCALENDAR
VERSION:2.0
PRODID:-//T.C. İstanbul Şişli Meslek Yüksekokulu
CALSCALE:GREGORIAN
METHOD:PUBLISH
X-WR-CALNAME:T.C. İstanbul Şişli Meslek Yüksekokulu
X-ORIGINAL-URL:https://www.sisli.edu.tr/paylasim/ingilizce-hazirlik-programi-ek-muafiyet-sinavi-sonuclari-hk/
X-WR-CALDESC:İngilizce Hazırlık Programı Ek-Muafiyet Sınavı Sonuçları hk.
BEGIN:VEVENT
DTSTART:20231016T000000
DTEND:
SUMMARY:İngilizce Hazırlık Programı Ek-Muafiyet Sınavı Sonuçları hk.
DESCRIPTION:
LOCATION:
END:VEVENT
END:VCALENDAR
