BEGIN:VCALENDAR
VERSION:2.0
PRODID:-//T.C. İstanbul Şişli Meslek Yüksekokulu
CALSCALE:GREGORIAN
METHOD:PUBLISH
X-WR-CALNAME:T.C. İstanbul Şişli Meslek Yüksekokulu
X-ORIGINAL-URL:https://www.sisli.edu.tr/paylasim/ayasofya-camii-gezisi/
X-WR-CALDESC:Ayasofya Camii Gezisi
BEGIN:VEVENT
DTSTART:20230531T000000
DTEND:
SUMMARY:Ayasofya Camii Gezisi
DESCRIPTION:
LOCATION:
END:VEVENT
END:VCALENDAR
