BEGIN:VCALENDAR
VERSION:2.0
PRODID:-//T.C. İstanbul Şişli Meslek Yüksekokulu
CALSCALE:GREGORIAN
METHOD:PUBLISH
X-WR-CALNAME:T.C. İstanbul Şişli Meslek Yüksekokulu
X-ORIGINAL-URL:https://www.sisli.edu.tr/paylasim/2022-2023-akademik-yili-bahar-yariyili-yabanci-dil-2-muafiyet-sinavi/
X-WR-CALDESC:2022-2023 Akademik Yılı Bahar Yarıyılı Yabancı Dil 2 Muafiyet Sınavı
BEGIN:VEVENT
DTSTART:20230309T003000
DTEND:
SUMMARY:2022-2023 Akademik Yılı Bahar Yarıyılı Yabancı Dil 2 Muafiyet Sınavı
DESCRIPTION:
LOCATION:
END:VEVENT
END:VCALENDAR
