BEGIN:VCALENDAR
VERSION:2.0
PRODID:-//T.C. İstanbul Şişli Meslek Yüksekokulu
CALSCALE:GREGORIAN
METHOD:PUBLISH
X-WR-CALNAME:T.C. İstanbul Şişli Meslek Yüksekokulu
X-ORIGINAL-URL:https://www.sisli.edu.tr/paylasim/2023-2024-erasmus-ogrenci-bilgilendirme-toplantisi/
X-WR-CALDESC:2023-2024 Erasmus+ Öğrenci Bilgilendirme Toplantısı
BEGIN:VEVENT
DTSTART:20230306T003000
DTEND:
SUMMARY:2023-2024 Erasmus+ Öğrenci Bilgilendirme Toplantısı
DESCRIPTION:
LOCATION:
END:VEVENT
END:VCALENDAR
