BEGIN:VCALENDAR
VERSION:2.0
PRODID:-//T.C. İstanbul Şişli Meslek Yüksekokulu
CALSCALE:GREGORIAN
METHOD:PUBLISH
X-WR-CALNAME:T.C. İstanbul Şişli Meslek Yüksekokulu
X-ORIGINAL-URL:https://www.sisli.edu.tr/paylasim/2022-2023-akademik-yili-bahar-yariyili-cift-anadal-degerlendirme-sonuclari/
X-WR-CALDESC:2022-2023 Akademik Yılı Bahar Yarıyılı Çift Anadal Değerlendirme Sonuçları
BEGIN:VEVENT
DTSTART:20230303T003000
DTEND:
SUMMARY:2022-2023 Akademik Yılı Bahar Yarıyılı Çift Anadal Değerlendirme Sonuçları
DESCRIPTION:
LOCATION:
END:VEVENT
END:VCALENDAR
