BEGIN:VCALENDAR
VERSION:2.0
PRODID:-//T.C. İstanbul Şişli Meslek Yüksekokulu
CALSCALE:GREGORIAN
METHOD:PUBLISH
X-WR-CALNAME:T.C. İstanbul Şişli Meslek Yüksekokulu
X-ORIGINAL-URL:https://www.sisli.edu.tr/paylasim/sesimi-duyan-var-mi/
X-WR-CALDESC:Sesimi Duyan Var Mı?
BEGIN:VEVENT
DTSTART:20230302T000000
DTEND:
SUMMARY:Sesimi Duyan Var Mı?
DESCRIPTION:
LOCATION:
END:VEVENT
END:VCALENDAR
