BEGIN:VCALENDAR
VERSION:2.0
PRODID:-//T.C. İstanbul Şişli Meslek Yüksekokulu
CALSCALE:GREGORIAN
METHOD:PUBLISH
X-WR-CALNAME:T.C. İstanbul Şişli Meslek Yüksekokulu
X-ORIGINAL-URL:https://www.sisli.edu.tr/paylasim/sef-yener-ozden-ile-soylesi/
X-WR-CALDESC:ŞEF YENER ÖZDEN İLE SÖYLEŞİ
BEGIN:VEVENT
DTSTART:20221229T110000
DTEND:20221229T000000
SUMMARY:ŞEF YENER ÖZDEN İLE SÖYLEŞİ
DESCRIPTION:
LOCATION:
END:VEVENT
END:VCALENDAR
