BEGIN:VCALENDAR
VERSION:2.0
PRODID:-//T.C. İstanbul Şişli Meslek Yüksekokulu
CALSCALE:GREGORIAN
METHOD:PUBLISH
X-WR-CALNAME:T.C. İstanbul Şişli Meslek Yüksekokulu
X-ORIGINAL-URL:https://www.sisli.edu.tr/paylasim/cocuk-onkolojisine-renkli-dokunus/
X-WR-CALDESC:Çocuk Onkolojisine Renkli Dokunuş
BEGIN:VEVENT
DTSTART:20221230T123000
DTEND:20221230T013000
SUMMARY:Çocuk Onkolojisine Renkli Dokunuş
DESCRIPTION:
LOCATION:
END:VEVENT
END:VCALENDAR
