BEGIN:VCALENDAR
VERSION:2.0
PRODID:-//T.C. İstanbul Şişli Meslek Yüksekokulu
CALSCALE:GREGORIAN
METHOD:PUBLISH
X-WR-CALNAME:T.C. İstanbul Şişli Meslek Yüksekokulu
X-ORIGINAL-URL:https://www.sisli.edu.tr/paylasim/2022-2023-akademik-yili-guz-yariyili-ara-sinav-mazeretleri-hk/
X-WR-CALDESC:2022-2023 Akademik Yılı Güz Yarıyılı Ara Sınav Mazeretleri Hk.
BEGIN:VEVENT
DTSTART:20221216T000000
DTEND:
SUMMARY:2022-2023 Akademik Yılı Güz Yarıyılı Ara Sınav Mazeretleri Hk.
DESCRIPTION:
LOCATION:
END:VEVENT
END:VCALENDAR
