BEGIN:VCALENDAR
VERSION:2.0
PRODID:-//T.C. İstanbul Şişli Meslek Yüksekokulu
CALSCALE:GREGORIAN
METHOD:PUBLISH
X-WR-CALNAME:T.C. İstanbul Şişli Meslek Yüksekokulu
X-ORIGINAL-URL:https://www.sisli.edu.tr/paylasim/kariyer-merkezi-kendini-tanima-ve-kisisel-farkindalik/
X-WR-CALDESC:Kariyer Merkezi &#8211; Kendini Tanıma ve Kişisel Farkındalık
BEGIN:VEVENT
DTSTART:20221228T130000
DTEND:
SUMMARY:Kariyer Merkezi &#8211; Kendini Tanıma ve Kişisel Farkındalık
DESCRIPTION:
LOCATION:
END:VEVENT
END:VCALENDAR
