BEGIN:VCALENDAR
VERSION:2.0
PRODID:-//T.C. İstanbul Şişli Meslek Yüksekokulu
CALSCALE:GREGORIAN
METHOD:PUBLISH
X-WR-CALNAME:T.C. İstanbul Şişli Meslek Yüksekokulu
X-ORIGINAL-URL:https://www.sisli.edu.tr/paylasim/kan-bagisi-kampanyasi/
X-WR-CALDESC:Kan Bağışı Kampanyası
BEGIN:VEVENT
DTSTART:20221122T000000
DTEND:
SUMMARY:Kan Bağışı Kampanyası
DESCRIPTION:
LOCATION:
END:VEVENT
END:VCALENDAR
