BEGIN:VCALENDAR
VERSION:2.0
PRODID:-//T.C. İstanbul Şişli Meslek Yüksekokulu
CALSCALE:GREGORIAN
METHOD:PUBLISH
X-WR-CALNAME:T.C. İstanbul Şişli Meslek Yüksekokulu
X-ORIGINAL-URL:https://www.sisli.edu.tr/paylasim/organ-bagisi-icin-anket-calismasi/
X-WR-CALDESC:Organ Bağışı İçin Anket Çalışması
BEGIN:VEVENT
DTSTART:20221122T003000
DTEND:
SUMMARY:Organ Bağışı İçin Anket Çalışması
DESCRIPTION:
LOCATION:
END:VEVENT
END:VCALENDAR
