BEGIN:VCALENDAR
VERSION:2.0
PRODID:-//T.C. İstanbul Şişli Meslek Yüksekokulu
CALSCALE:GREGORIAN
METHOD:PUBLISH
X-WR-CALNAME:T.C. İstanbul Şişli Meslek Yüksekokulu
X-ORIGINAL-URL:https://www.sisli.edu.tr/paylasim/uni-bjk-kulubu-hentbol-maci/
X-WR-CALDESC:Uni BJK Kulübü Hentbol Maçı
BEGIN:VEVENT
DTSTART:20221106T000000
DTEND:
SUMMARY:Uni BJK Kulübü Hentbol Maçı
DESCRIPTION:
LOCATION:
END:VEVENT
END:VCALENDAR
