BEGIN:VCALENDAR
VERSION:2.0
PRODID:-//T.C. İstanbul Şişli Meslek Yüksekokulu
CALSCALE:GREGORIAN
METHOD:PUBLISH
X-WR-CALNAME:T.C. İstanbul Şişli Meslek Yüksekokulu
X-ORIGINAL-URL:https://www.sisli.edu.tr/paylasim/ukulele-ile-ritim-atolyesi/
X-WR-CALDESC:Ukulele ile Ritim Atölyesi
BEGIN:VEVENT
DTSTART:20221121T010000
DTEND:
SUMMARY:Ukulele ile Ritim Atölyesi
DESCRIPTION:
LOCATION:
END:VEVENT
END:VCALENDAR
