BEGIN:VCALENDAR
VERSION:2.0
PRODID:-//T.C. İstanbul Şişli Meslek Yüksekokulu
CALSCALE:GREGORIAN
METHOD:PUBLISH
X-WR-CALNAME:T.C. İstanbul Şişli Meslek Yüksekokulu
X-ORIGINAL-URL:https://www.sisli.edu.tr/paylasim/online-masal-atolyesi-gulduren-eldivenim-masal-kitabi/
X-WR-CALDESC:Online Masal Atölyesi &#8220;Güldüren Eldivenim Masal Kitabı&#8221;
BEGIN:VEVENT
DTSTART:20221101T003000
DTEND:
SUMMARY:Online Masal Atölyesi &#8220;Güldüren Eldivenim Masal Kitabı&#8221;
DESCRIPTION:
LOCATION:
END:VEVENT
END:VCALENDAR
