BEGIN:VCALENDAR
VERSION:2.0
PRODID:-//T.C. İstanbul Şişli Meslek Yüksekokulu
CALSCALE:GREGORIAN
METHOD:PUBLISH
X-WR-CALNAME:T.C. İstanbul Şişli Meslek Yüksekokulu
X-ORIGINAL-URL:https://www.sisli.edu.tr/paylasim/yabanci-dil-i-ve-bilgi-ve-iletisim-teknolojileri-muafiyet-sinavi/
X-WR-CALDESC:Yabancı Dil-I ve Bilgi ve İletişim Teknolojileri Muafiyet Sınavı
BEGIN:VEVENT
DTSTART:20221101T000000
DTEND:
SUMMARY:Yabancı Dil-I ve Bilgi ve İletişim Teknolojileri Muafiyet Sınavı
DESCRIPTION:
LOCATION:
END:VEVENT
END:VCALENDAR
