BEGIN:VCALENDAR
VERSION:2.0
PRODID:-//T.C. İstanbul Şişli Meslek Yüksekokulu
CALSCALE:GREGORIAN
METHOD:PUBLISH
X-WR-CALNAME:T.C. İstanbul Şişli Meslek Yüksekokulu
X-ORIGINAL-URL:https://www.sisli.edu.tr/paylasim/26-09-2022-tarih-ve-31965-sayili-resmi-gazetede-yayinlanan-ogretim-elemani-alim-ilani-on-degerlendirme-sonuclari/
X-WR-CALDESC:26.09.2022 Tarih ve 31965 Sayılı Resmi Gazetede Yayınlanan Öğretim   Elemanı Alım İlanı Ön Değerlendirme Sonuçları
BEGIN:VEVENT
DTSTART:20221012T000000
DTEND:
SUMMARY:26.09.2022 Tarih ve 31965 Sayılı Resmi Gazetede Yayınlanan Öğretim   Elemanı Alım İlanı Ön Değerlendirme Sonuçları
DESCRIPTION:
LOCATION:
END:VEVENT
END:VCALENDAR
