BEGIN:VCALENDAR
VERSION:2.0
PRODID:-//T.C. İstanbul Şişli Meslek Yüksekokulu
CALSCALE:GREGORIAN
METHOD:PUBLISH
X-WR-CALNAME:T.C. İstanbul Şişli Meslek Yüksekokulu
X-ORIGINAL-URL:https://www.sisli.edu.tr/paylasim/turkce-yeterlilik-sinavi/
X-WR-CALDESC:Türkçe Yeterlilik Sınavı
BEGIN:VEVENT
DTSTART:20221006T000000
DTEND:
SUMMARY:Türkçe Yeterlilik Sınavı
DESCRIPTION:
LOCATION:
END:VEVENT
END:VCALENDAR
