BEGIN:VCALENDAR
VERSION:2.0
PRODID:-//T.C. İstanbul Şişli Meslek Yüksekokulu
CALSCALE:GREGORIAN
METHOD:PUBLISH
X-WR-CALNAME:T.C. İstanbul Şişli Meslek Yüksekokulu
X-ORIGINAL-URL:https://www.sisli.edu.tr/paylasim/2022-2023-guz-yariyili-cift-anadal-programi-basvuru-sonuclari/
X-WR-CALDESC:2022-2023 Güz Yarıyılı Çift Anadal Programı  Başvuru Sonuçları
BEGIN:VEVENT
DTSTART:20220930T000000
DTEND:
SUMMARY:2022-2023 Güz Yarıyılı Çift Anadal Programı  Başvuru Sonuçları
DESCRIPTION:
LOCATION:
END:VEVENT
END:VCALENDAR
