BEGIN:VCALENDAR
VERSION:2.0
PRODID:-//T.C. İstanbul Şişli Meslek Yüksekokulu
CALSCALE:GREGORIAN
METHOD:PUBLISH
X-WR-CALNAME:T.C. İstanbul Şişli Meslek Yüksekokulu
X-ORIGINAL-URL:https://www.sisli.edu.tr/paylasim/ucretsiz-dgs-kpss-matematik-turkce-kursu/
X-WR-CALDESC:Ücretsiz DGS-KPSS Matematik-Türkçe Kursu
BEGIN:VEVENT
DTSTART:20220927T000000
DTEND:
SUMMARY:Ücretsiz DGS-KPSS Matematik-Türkçe Kursu
DESCRIPTION:
LOCATION:
END:VEVENT
END:VCALENDAR
