BEGIN:VCALENDAR
VERSION:2.0
PRODID:-//T.C. İstanbul Şişli Meslek Yüksekokulu
CALSCALE:GREGORIAN
METHOD:PUBLISH
X-WR-CALNAME:T.C. İstanbul Şişli Meslek Yüksekokulu
X-ORIGINAL-URL:https://www.sisli.edu.tr/paylasim/7417-sayili-af-kanunu-kapsaminda-ogrenci-alimi/
X-WR-CALDESC:7417 Sayılı Af Kanunu Kapsamında Öğrenci Alımı
BEGIN:VEVENT
DTSTART:20220808T000000
DTEND:
SUMMARY:7417 Sayılı Af Kanunu Kapsamında Öğrenci Alımı
DESCRIPTION:
LOCATION:
END:VEVENT
END:VCALENDAR
