BEGIN:VCALENDAR
VERSION:2.0
PRODID:-//T.C. İstanbul Şişli Meslek Yüksekokulu
CALSCALE:GREGORIAN
METHOD:PUBLISH
X-WR-CALNAME:T.C. İstanbul Şişli Meslek Yüksekokulu
X-ORIGINAL-URL:https://www.sisli.edu.tr/paylasim/18-07-2022-tarih-ve-31896-sayili-resmi-gazetede-yayinlanan-ogretim-elemani-alim-ilani-on-degerlendirme-sonuclari/
X-WR-CALDESC:18.07.2022 Tarih ve 31896 Sayılı Resmi Gazetede Yayınlanan Öğretim  Elemanı Alım İlanı Ön Değerlendirme Sonuçları
BEGIN:VEVENT
DTSTART:20220803T153000
DTEND:
SUMMARY:18.07.2022 Tarih ve 31896 Sayılı Resmi Gazetede Yayınlanan Öğretim  Elemanı Alım İlanı Ön Değerlendirme Sonuçları
DESCRIPTION:
LOCATION:
END:VEVENT
END:VCALENDAR
