BEGIN:VCALENDAR
VERSION:2.0
PRODID:-//T.C. İstanbul Şişli Meslek Yüksekokulu
CALSCALE:GREGORIAN
METHOD:PUBLISH
X-WR-CALNAME:T.C. İstanbul Şişli Meslek Yüksekokulu
X-ORIGINAL-URL:https://www.sisli.edu.tr/paylasim/2022-2023-guz-donemi-yatay-gecis-hk/
X-WR-CALDESC:2022-2023 Güz Dönemi Yatay Geçiş hk.
BEGIN:VEVENT
DTSTART:20220708T000000
DTEND:
SUMMARY:2022-2023 Güz Dönemi Yatay Geçiş hk.
DESCRIPTION:
LOCATION:
END:VEVENT
END:VCALENDAR
