BEGIN:VCALENDAR
VERSION:2.0
PRODID:-//T.C. İstanbul Şişli Meslek Yüksekokulu
CALSCALE:GREGORIAN
METHOD:PUBLISH
X-WR-CALNAME:T.C. İstanbul Şişli Meslek Yüksekokulu
X-ORIGINAL-URL:https://www.sisli.edu.tr/paylasim/ebsco-academic-collection-veritabani-erisime-acildi/
X-WR-CALDESC:EBSCO Academic Collection veritabanı erişime açıldı.
BEGIN:VEVENT
DTSTART:20220621T000000
DTEND:
SUMMARY:EBSCO Academic Collection veritabanı erişime açıldı.
DESCRIPTION:
LOCATION:
END:VEVENT
END:VCALENDAR
