BEGIN:VCALENDAR
VERSION:2.0
PRODID:-//T.C. İstanbul Şişli Meslek Yüksekokulu
CALSCALE:GREGORIAN
METHOD:PUBLISH
X-WR-CALNAME:T.C. İstanbul Şişli Meslek Yüksekokulu
X-ORIGINAL-URL:https://www.sisli.edu.tr/paylasim/guzellik-ve-bakim-uzerine-sohbet/
X-WR-CALDESC:Güzellik ve Bakım Üzerine Sohbet
BEGIN:VEVENT
DTSTART:20220520T000000
DTEND:
SUMMARY:Güzellik ve Bakım Üzerine Sohbet
DESCRIPTION:
LOCATION:
END:VEVENT
END:VCALENDAR
