BEGIN:VCALENDAR
VERSION:2.0
PRODID:-//T.C. İstanbul Şişli Meslek Yüksekokulu
CALSCALE:GREGORIAN
METHOD:PUBLISH
X-WR-CALNAME:T.C. İstanbul Şişli Meslek Yüksekokulu
X-ORIGINAL-URL:https://www.sisli.edu.tr/paylasim/radyasyondan-korunma-yontemleri-semineri/
X-WR-CALDESC:Radyasyondan Korunma Yöntemleri Semineri
BEGIN:VEVENT
DTSTART:20220602T000000
DTEND:
SUMMARY:Radyasyondan Korunma Yöntemleri Semineri
DESCRIPTION:
LOCATION:
END:VEVENT
END:VCALENDAR
