BEGIN:VCALENDAR
VERSION:2.0
PRODID:-//T.C. İstanbul Şişli Meslek Yüksekokulu
CALSCALE:GREGORIAN
METHOD:PUBLISH
X-WR-CALNAME:T.C. İstanbul Şişli Meslek Yüksekokulu
X-ORIGINAL-URL:https://www.sisli.edu.tr/paylasim/sektor-hakkinda-deneyimler-uzerine-sohbet-seminer/
X-WR-CALDESC:Sektör Hakkında Deneyimler Üzerine Sohbet Seminer
BEGIN:VEVENT
DTSTART:20220527T000000
DTEND:
SUMMARY:Sektör Hakkında Deneyimler Üzerine Sohbet Seminer
DESCRIPTION:
LOCATION:
END:VEVENT
END:VCALENDAR
