BEGIN:VCALENDAR
VERSION:2.0
PRODID:-//T.C. İstanbul Şişli Meslek Yüksekokulu
CALSCALE:GREGORIAN
METHOD:PUBLISH
X-WR-CALNAME:T.C. İstanbul Şişli Meslek Yüksekokulu
X-ORIGINAL-URL:https://www.sisli.edu.tr/paylasim/dunden-bugune-meslek-seruveni-semineri/
X-WR-CALDESC:Dünden Bugüne Meslek Serüveni Semineri
BEGIN:VEVENT
DTSTART:20220526T000000
DTEND:
SUMMARY:Dünden Bugüne Meslek Serüveni Semineri
DESCRIPTION:
LOCATION:
END:VEVENT
END:VCALENDAR
