BEGIN:VCALENDAR
VERSION:2.0
PRODID:-//T.C. İstanbul Şişli Meslek Yüksekokulu
CALSCALE:GREGORIAN
METHOD:PUBLISH
X-WR-CALNAME:T.C. İstanbul Şişli Meslek Yüksekokulu
X-ORIGINAL-URL:https://www.sisli.edu.tr/paylasim/sosyal-medya-ve-icerik-yonetimi-semineri/
X-WR-CALDESC:Sosyal Medya ve İçerik Yönetimi Semineri
BEGIN:VEVENT
DTSTART:20220526T000000
DTEND:
SUMMARY:Sosyal Medya ve İçerik Yönetimi Semineri
DESCRIPTION:
LOCATION:
END:VEVENT
END:VCALENDAR
