BEGIN:VCALENDAR
VERSION:2.0
PRODID:-//T.C. İstanbul Şişli Meslek Yüksekokulu
CALSCALE:GREGORIAN
METHOD:PUBLISH
X-WR-CALNAME:T.C. İstanbul Şişli Meslek Yüksekokulu
X-ORIGINAL-URL:https://www.sisli.edu.tr/paylasim/2021-2022-akademikyili-erasmus-cagrisi/
X-WR-CALDESC:2022-2023 AKADEMİK YILI ERASMUS+  ÇAĞRISI
BEGIN:VEVENT
DTSTART:20220422T000000
DTEND:
SUMMARY:2022-2023 AKADEMİK YILI ERASMUS+  ÇAĞRISI
DESCRIPTION:
LOCATION:
END:VEVENT
END:VCALENDAR
