BEGIN:VCALENDAR
VERSION:2.0
PRODID:-//T.C. İstanbul Şişli Meslek Yüksekokulu
CALSCALE:GREGORIAN
METHOD:PUBLISH
X-WR-CALNAME:T.C. İstanbul Şişli Meslek Yüksekokulu
X-ORIGINAL-URL:https://www.sisli.edu.tr/paylasim/gelecegin-yetkinlikleri-ve-is-dunyasi-gercekleri-semineri/
X-WR-CALDESC:Geleceğin Yetkinlikleri ve İş Dünyası Gerçekleri Semineri
BEGIN:VEVENT
DTSTART:20220412T000000
DTEND:
SUMMARY:Geleceğin Yetkinlikleri ve İş Dünyası Gerçekleri Semineri
DESCRIPTION:
LOCATION:
END:VEVENT
END:VCALENDAR
