BEGIN:VCALENDAR
VERSION:2.0
PRODID:-//T.C. İstanbul Şişli Meslek Yüksekokulu
CALSCALE:GREGORIAN
METHOD:PUBLISH
X-WR-CALNAME:T.C. İstanbul Şişli Meslek Yüksekokulu
X-ORIGINAL-URL:https://www.sisli.edu.tr/paylasim/hizmet-sektorunde-iletisim/
X-WR-CALDESC:Hizmet Sektöründe İletişim
BEGIN:VEVENT
DTSTART:20220428T003000
DTEND:
SUMMARY:Hizmet Sektöründe İletişim
DESCRIPTION:
LOCATION:
END:VEVENT
END:VCALENDAR
