BEGIN:VCALENDAR
VERSION:2.0
PRODID:-//T.C. İstanbul Şişli Meslek Yüksekokulu
CALSCALE:GREGORIAN
METHOD:PUBLISH
X-WR-CALNAME:T.C. İstanbul Şişli Meslek Yüksekokulu
X-ORIGINAL-URL:https://www.sisli.edu.tr/paylasim/ukraynadan-gelen-ogrencilerin-yatay-gecis-ve-ozel-ogrencilik-sartlari-hk/
X-WR-CALDESC:Ukrayna&#8217;dan Gelen Öğrencilerin Yatay Geçiş ve Özel Öğrencilik Şartları HK.
BEGIN:VEVENT
DTSTART:20220407T000000
DTEND:
SUMMARY:Ukrayna&#8217;dan Gelen Öğrencilerin Yatay Geçiş ve Özel Öğrencilik Şartları HK.
DESCRIPTION:
LOCATION:
END:VEVENT
END:VCALENDAR
