BEGIN:VCALENDAR
VERSION:2.0
PRODID:-//T.C. İstanbul Şişli Meslek Yüksekokulu
CALSCALE:GREGORIAN
METHOD:PUBLISH
X-WR-CALNAME:T.C. İstanbul Şişli Meslek Yüksekokulu
X-ORIGINAL-URL:https://www.sisli.edu.tr/paylasim/ibb-sisli-istihdam-ofisi-ile-turizm-ve-otelcilik-programi-istihdam-olanaklari/
X-WR-CALDESC:İBB Şişli İstihdam Ofisi ile Turizm ve Otelcilik Programı İstihdam Olanakları
BEGIN:VEVENT
DTSTART:20220405T000000
DTEND:
SUMMARY:İBB Şişli İstihdam Ofisi ile Turizm ve Otelcilik Programı İstihdam Olanakları
DESCRIPTION:
LOCATION:
END:VEVENT
END:VCALENDAR
