BEGIN:VCALENDAR
VERSION:2.0
PRODID:-//T.C. İstanbul Şişli Meslek Yüksekokulu
CALSCALE:GREGORIAN
METHOD:PUBLISH
X-WR-CALNAME:T.C. İstanbul Şişli Meslek Yüksekokulu
X-ORIGINAL-URL:https://www.sisli.edu.tr/paylasim/problem-cozme-becerileri/
X-WR-CALDESC:Problem Çözme Becerileri
BEGIN:VEVENT
DTSTART:20220318T153000
DTEND:
SUMMARY:Problem Çözme Becerileri
DESCRIPTION:
LOCATION:
END:VEVENT
END:VCALENDAR
