BEGIN:VCALENDAR
VERSION:2.0
PRODID:-//T.C. İstanbul Şişli Meslek Yüksekokulu
CALSCALE:GREGORIAN
METHOD:PUBLISH
X-WR-CALNAME:T.C. İstanbul Şişli Meslek Yüksekokulu
X-ORIGINAL-URL:https://www.sisli.edu.tr/paylasim/2021-2022-akademik-yili-yabanci-dil-ii-muafiyet-sinavi/
X-WR-CALDESC:2021-2022 Akademik Yılı Yabancı Dil II Muafiyet Sınavı
BEGIN:VEVENT
DTSTART:20220314T000000
DTEND:
SUMMARY:2021-2022 Akademik Yılı Yabancı Dil II Muafiyet Sınavı
DESCRIPTION:
LOCATION:
END:VEVENT
END:VCALENDAR
