BEGIN:VCALENDAR
VERSION:2.0
PRODID:-//T.C. İstanbul Şişli Meslek Yüksekokulu
CALSCALE:GREGORIAN
METHOD:PUBLISH
X-WR-CALNAME:T.C. İstanbul Şişli Meslek Yüksekokulu
X-ORIGINAL-URL:https://www.sisli.edu.tr/paylasim/14-mart-2022-tarihli-ve-31778-sayili-resmi-gazetede-yayimlanan-ogretim-elemani-alimina-iliskin-ilan-duyurusu/
X-WR-CALDESC:14 Mart 2022 tarihli ve 31778 sayılı Resmi Gazete’de Yayımlanan Öğretim Elemanı Alımına İlişkin İlan Duyurusu
BEGIN:VEVENT
DTSTART:20220314T000000
DTEND:
SUMMARY:14 Mart 2022 tarihli ve 31778 sayılı Resmi Gazete’de Yayımlanan Öğretim Elemanı Alımına İlişkin İlan Duyurusu
DESCRIPTION:
LOCATION:
END:VEVENT
END:VCALENDAR
