BEGIN:VCALENDAR
VERSION:2.0
PRODID:-//T.C. İstanbul Şişli Meslek Yüksekokulu
CALSCALE:GREGORIAN
METHOD:PUBLISH
X-WR-CALNAME:T.C. İstanbul Şişli Meslek Yüksekokulu
X-ORIGINAL-URL:https://www.sisli.edu.tr/paylasim/ucretsiz-dgs-kursu-hk/
X-WR-CALDESC:Ücretsiz DGS Kursu Hk.
BEGIN:VEVENT
DTSTART:20220309T000000
DTEND:
SUMMARY:Ücretsiz DGS Kursu Hk.
DESCRIPTION:
LOCATION:
END:VEVENT
END:VCALENDAR
