BEGIN:VCALENDAR
VERSION:2.0
PRODID:-//T.C. İstanbul Şişli Meslek Yüksekokulu
CALSCALE:GREGORIAN
METHOD:PUBLISH
X-WR-CALNAME:T.C. İstanbul Şişli Meslek Yüksekokulu
X-ORIGINAL-URL:https://www.sisli.edu.tr/paylasim/2021-2022-egitim-ogretim-yili-guz-yariyili-sonu-tek-ders-sinavi/
X-WR-CALDESC:2021-2022 Eğitim-Öğretim Yılı Güz Yarıyılı Sonu Tek Ders Sınavı
BEGIN:VEVENT
DTSTART:
DTEND:
SUMMARY:2021-2022 Eğitim-Öğretim Yılı Güz Yarıyılı Sonu Tek Ders Sınavı
DESCRIPTION:
LOCATION:
END:VEVENT
END:VCALENDAR
