BEGIN:VCALENDAR
VERSION:2.0
PRODID:-//T.C. İstanbul Şişli Meslek Yüksekokulu
CALSCALE:GREGORIAN
METHOD:PUBLISH
X-WR-CALNAME:T.C. İstanbul Şişli Meslek Yüksekokulu
X-ORIGINAL-URL:https://www.sisli.edu.tr/paylasim/2021-2022-bahar-donemi-cift-anadal/
X-WR-CALDESC:2021-2022 Bahar Dönemi Çift Anadal
BEGIN:VEVENT
DTSTART:20220218T000000
DTEND:
SUMMARY:2021-2022 Bahar Dönemi Çift Anadal
DESCRIPTION:
LOCATION:
END:VEVENT
END:VCALENDAR
